BEGIN:VCALENDAR
VERSION:2.0
PRODID:-//Powiatowe Centrum Sportu w Raciborzu - ECPv6.15.20//NONSGML v1.0//EN
CALSCALE:GREGORIAN
METHOD:PUBLISH
X-ORIGINAL-URL:https://pcsraciborz.pl
X-WR-CALDESC:Wydarzenia dla Powiatowe Centrum Sportu w Raciborzu
REFRESH-INTERVAL;VALUE=DURATION:PT1H
X-Robots-Tag:noindex
X-PUBLISHED-TTL:PT1H
BEGIN:VTIMEZONE
TZID:Europe/Warsaw
BEGIN:DAYLIGHT
TZOFFSETFROM:+0100
TZOFFSETTO:+0200
TZNAME:CEST
DTSTART:20240331T010000
END:DAYLIGHT
BEGIN:STANDARD
TZOFFSETFROM:+0200
TZOFFSETTO:+0100
TZNAME:CET
DTSTART:20241027T010000
END:STANDARD
BEGIN:DAYLIGHT
TZOFFSETFROM:+0100
TZOFFSETTO:+0200
TZNAME:CEST
DTSTART:20250330T010000
END:DAYLIGHT
BEGIN:STANDARD
TZOFFSETFROM:+0200
TZOFFSETTO:+0100
TZNAME:CET
DTSTART:20251026T010000
END:STANDARD
BEGIN:DAYLIGHT
TZOFFSETFROM:+0100
TZOFFSETTO:+0200
TZNAME:CEST
DTSTART:20260329T010000
END:DAYLIGHT
BEGIN:STANDARD
TZOFFSETFROM:+0200
TZOFFSETTO:+0100
TZNAME:CET
DTSTART:20261025T010000
END:STANDARD
END:VTIMEZONE
BEGIN:VEVENT
DTSTART;VALUE=DATE:20251206
DTEND;VALUE=DATE:20251207
DTSTAMP:20260425T234449
CREATED:20251204T112247Z
LAST-MODIFIED:20251212T121227Z
UID:2385-1764979200-1765065599@pcsraciborz.pl
SUMMARY:Rezerwacja saunarium na wyłączność
DESCRIPTION:W związku z rezerwacją saunarium na wyłączność\, sauna nie będzie dostępna dla klientów indywidualnych. Za utrudnienia serdecznie przepraszamy.
URL:https://pcsraciborz.pl/event/rezerwacja-saunarium-na-wylacznosc/
LOCATION:Śląskie
ATTACH;FMTTYPE=image/jpeg:https://pcsraciborz.pl/wp-content/uploads/2025/12/Wynajete-na-wylacznosc.jpg
END:VEVENT
BEGIN:VEVENT
DTSTART;TZID=Europe/Warsaw:20251206T100000
DTEND;TZID=Europe/Warsaw:20251206T120000
DTSTAMP:20260425T234449
CREATED:20251204T111134Z
LAST-MODIFIED:20251204T111456Z
UID:2381-1765015200-1765022400@pcsraciborz.pl
SUMMARY:Samoobrona dla seniorów
DESCRIPTION:https://pcsraciborz.pl/2025/12/04/samoobrona-dla-seniorow/
URL:https://pcsraciborz.pl/event/samoobrona-dla-seniorow/
LOCATION:Racibórz ul. Klasztorna 9 PCS\, Klasztarna 9\, Racibórz\, Śląskie\, 47-400\, Poland
ATTACH;FMTTYPE=image/jpeg:https://pcsraciborz.pl/wp-content/uploads/2025/12/Projekt-bez-nazwy.jpg
END:VEVENT
BEGIN:VEVENT
DTSTART;TZID=Europe/Warsaw:20251210T180000
DTEND;TZID=Europe/Warsaw:20251210T200000
DTSTAMP:20260425T234449
CREATED:20251212T081908Z
LAST-MODIFIED:20251212T081908Z
UID:2403-1765389600-1765396800@pcsraciborz.pl
SUMMARY:I Zawody Mikołajkowe 2025 - Ścianka Wspinaczkowa
DESCRIPTION:
URL:https://pcsraciborz.pl/event/i-zawody-mikolajkowe-2025-scianka-wspinaczkowa/
LOCATION:Racibórz ul. Klasztorna 9 PCS\, Klasztarna 9\, Racibórz\, Śląskie\, 47-400\, Poland
END:VEVENT
BEGIN:VEVENT
DTSTART;TZID=Europe/Warsaw:20251213T150000
DTEND;TZID=Europe/Warsaw:20251213T150000
DTSTAMP:20260425T234449
CREATED:20251009T172655Z
LAST-MODIFIED:20251009T182439Z
UID:1988-1765638000-1765638000@pcsraciborz.pl
SUMMARY:Turniej Steel Dart Powiatu Raciborskiego
DESCRIPTION:
URL:https://pcsraciborz.pl/event/turniej-steel-dart-powiatu-raciborskiego-3/
LOCATION:Racibórz ul. Klasztorna 9 PCS\, Klasztarna 9\, Racibórz\, Śląskie\, 47-400\, Poland
CATEGORIES:Turniej Steel Dart
ATTACH;FMTTYPE=image/jpeg:https://pcsraciborz.pl/wp-content/uploads/2025/10/darts-673229_1280.jpg
END:VEVENT
BEGIN:VEVENT
DTSTART;TZID=Europe/Warsaw:20251214T100000
DTEND;TZID=Europe/Warsaw:20251214T150000
DTSTAMP:20260425T234449
CREATED:20251212T080610Z
LAST-MODIFIED:20251212T080610Z
UID:2392-1765706400-1765724400@pcsraciborz.pl
SUMMARY:IV Runda Powiatowej Ligi Szachowej i Zakończenie Sezonu
DESCRIPTION:PCS w Raciborzu serdecznie zaprasza miłośników szachów do udziału w IV Rundzie Powiat Raciborski Lidze Szachowej. Tym razem finałowa rywalizacja szachistów odbędzie się w PCS Racibórz (ul. Klasztorna 9).\nZawody odbędą się 14.12.2025 r. w niedzielę. Start rozgrywek zaplanowano na godz. 10:00 (potwierdzenie uczestnictwa do godz. 9:45)\nUWAGA !!! – Obowiązkowe zapisy do 12.12.2025 r. (piątek) !!! – ilość miejsc ograniczona !!!\nZapisy/kontakt: jeziorskipiotr@poczta.onet.pl / tel. 503-133-840\, Tomasz Bieliński – 693-368-377 (w treści maila podajemy: Imię\, nazwisko\, miasto zamieszkania\, Kat. szachową jeśli jest\, rok urodzenia).\nKategorie:\n* do 12 lat\n* 13-18 lat\n* 19+\n* kobiety\nNie pobiera się opłaty za udział w lidze!
URL:https://pcsraciborz.pl/event/iv-runda-powiatowej-ligi-szachowej-i-zakonczenie-sezonu/
LOCATION:Racibórz ul. Klasztorna 9 PCS\, Klasztarna 9\, Racibórz\, Śląskie\, 47-400\, Poland
ATTACH;FMTTYPE=image/jpeg:https://pcsraciborz.pl/wp-content/uploads/2025/12/Projekt-bez-nazwy-1.jpg
END:VEVENT
BEGIN:VEVENT
DTSTART;TZID=Europe/Warsaw:20251214T160000
DTEND;TZID=Europe/Warsaw:20251214T210000
DTSTAMP:20260425T234449
CREATED:20251211T134738Z
LAST-MODIFIED:20251211T134738Z
UID:2390-1765728000-1765746000@pcsraciborz.pl
SUMMARY:Seanse saunowe
DESCRIPTION:W godzinach 16.00-21.00 troje saunamistrzów – Kasia\, Adam i Grzegorz prowadzić będą seanse saunowe w Saunarium PCS.
URL:https://pcsraciborz.pl/event/seanse-saunowe/
LOCATION:Racibórz ul. Klasztorna 9 PCS\, Klasztarna 9\, Racibórz\, Śląskie\, 47-400\, Poland
END:VEVENT
BEGIN:VEVENT
DTSTART;TZID=Europe/Warsaw:20251219T170000
DTEND;TZID=Europe/Warsaw:20251219T210000
DTSTAMP:20260425T234449
CREATED:20251216T091909Z
LAST-MODIFIED:20251216T091909Z
UID:2415-1766163600-1766178000@pcsraciborz.pl
SUMMARY:Wynajęcie sauny na wyłączność
DESCRIPTION:Informujemy\, że 19.12.2025 Saunarium PCS będzie wynajęte na wyłączność.
URL:https://pcsraciborz.pl/event/wynajecie-sauny-na-wylacznosc/
LOCATION:Racibórz ul. Klasztorna 9 PCS\, Klasztarna 9\, Racibórz\, Śląskie\, 47-400\, Poland
END:VEVENT
BEGIN:VEVENT
DTSTART;TZID=Europe/Warsaw:20251219T180000
DTEND;TZID=Europe/Warsaw:20251219T210000
DTSTAMP:20260425T234449
CREATED:20251212T081522Z
LAST-MODIFIED:20251212T081522Z
UID:2401-1766167200-1766178000@pcsraciborz.pl
SUMMARY:VIII edycja Powiatowej Ligi Gry w Tysiąca
DESCRIPTION:Serdecznie zapraszamy do udziału w VIII edycji Powiat Raciborski Ligi Gry w Tysiąca.\nStartujemy 19.12 (piątek) o 18:00. Zapisy przyjmujemy pod nr tel. 605314991\nZapraszamy do wspólnej zabawy!
URL:https://pcsraciborz.pl/event/viii-edycja-powiatowej-ligi-gry-w-tysiaca/
LOCATION:Śląskie
ATTACH;FMTTYPE=image/jpeg:https://pcsraciborz.pl/wp-content/uploads/2025/12/Projekt-bez-nazwy1.jpg
END:VEVENT
BEGIN:VEVENT
DTSTART;TZID=Europe/Warsaw:20251224T000000
DTEND;TZID=Europe/Warsaw:20251224T235900
DTSTAMP:20260425T234449
CREATED:20251212T082304Z
LAST-MODIFIED:20251212T082910Z
UID:2405-1766534400-1766620740@pcsraciborz.pl
SUMMARY:Wigilia
DESCRIPTION:W dniu 24.12.2025 r. PCS będzie nieczynne. \n  \nPełne ciepła życzenia na nadchodzące Święta Bożego Narodzenia życzą \nDyrektor i pracownicy PCS!
URL:https://pcsraciborz.pl/event/wigilia/
LOCATION:Racibórz ul. Klasztorna 9 PCS\, Klasztarna 9\, Racibórz\, Śląskie\, 47-400\, Poland
ATTACH;FMTTYPE=image/jpeg:https://pcsraciborz.pl/wp-content/uploads/2025/12/PCS-zyczy-Wesolych-Swiat.jpg
END:VEVENT
BEGIN:VEVENT
DTSTART;TZID=Europe/Warsaw:20251229T200000
DTEND;TZID=Europe/Warsaw:20251229T200000
DTSTAMP:20260425T234449
CREATED:20251009T172743Z
LAST-MODIFIED:20251009T182053Z
UID:1990-1767038400-1767038400@pcsraciborz.pl
SUMMARY:Turniej Tenisa Stołowego
DESCRIPTION:
URL:https://pcsraciborz.pl/event/turniej-tenisa-stolowego-2/
LOCATION:Racibórz ul. Klasztorna 9 PCS\, Klasztarna 9\, Racibórz\, Śląskie\, 47-400\, Poland
CATEGORIES:tenis stołowy
ATTACH;FMTTYPE=image/jpeg:https://pcsraciborz.pl/wp-content/uploads/2025/10/table-tennis-4046278_1280.jpg
END:VEVENT
END:VCALENDAR