BEGIN:VCALENDAR
VERSION:2.0
PRODID:-//Powiatowe Centrum Sportu w Raciborzu - ECPv6.15.20//NONSGML v1.0//EN
CALSCALE:GREGORIAN
METHOD:PUBLISH
X-WR-CALNAME:Powiatowe Centrum Sportu w Raciborzu
X-ORIGINAL-URL:https://pcsraciborz.pl
X-WR-CALDESC:Wydarzenia dla Powiatowe Centrum Sportu w Raciborzu
REFRESH-INTERVAL;VALUE=DURATION:PT1H
X-Robots-Tag:noindex
X-PUBLISHED-TTL:PT1H
BEGIN:VTIMEZONE
TZID:Europe/Warsaw
BEGIN:DAYLIGHT
TZOFFSETFROM:+0100
TZOFFSETTO:+0200
TZNAME:CEST
DTSTART:20250330T010000
END:DAYLIGHT
BEGIN:STANDARD
TZOFFSETFROM:+0200
TZOFFSETTO:+0100
TZNAME:CET
DTSTART:20251026T010000
END:STANDARD
BEGIN:DAYLIGHT
TZOFFSETFROM:+0100
TZOFFSETTO:+0200
TZNAME:CEST
DTSTART:20260329T010000
END:DAYLIGHT
BEGIN:STANDARD
TZOFFSETFROM:+0200
TZOFFSETTO:+0100
TZNAME:CET
DTSTART:20261025T010000
END:STANDARD
BEGIN:DAYLIGHT
TZOFFSETFROM:+0100
TZOFFSETTO:+0200
TZNAME:CEST
DTSTART:20270328T010000
END:DAYLIGHT
BEGIN:STANDARD
TZOFFSETFROM:+0200
TZOFFSETTO:+0100
TZNAME:CET
DTSTART:20271031T010000
END:STANDARD
END:VTIMEZONE
BEGIN:VEVENT
DTSTART;TZID=Europe/Warsaw:20260214T160000
DTEND;TZID=Europe/Warsaw:20260214T190000
DTSTAMP:20260425T202930
CREATED:20260218T111419Z
LAST-MODIFIED:20260218T111419Z
UID:2490-1771084800-1771095600@pcsraciborz.pl
SUMMARY:Walentynkowy Turniej Darta Parami
DESCRIPTION:Walentynkowy Turniej Darta Parami W ramach ferii w Powiat Raciborski zapraszamy Was serdecznie do PCSu na walentynkową rywalizację przy tarczy!Gramy parami – zabierz drugą połówkę\, znajomego lub znajomą i sprawdźcie swoją celność  Start rywalizacji: godz. 16:00Termin: 14.02.2026 Zapisy: 605 314 991 Udział w turnieju: bezpłatnyNie liczy się tylko wynik\, ale dobra zabawa i walentynkowy klimat Do zobaczenia!
URL:https://pcsraciborz.pl/event/walentynkowy-turniej-darta-parami/
LOCATION:Racibórz ul. Klasztorna 9 PCS\, Klasztarna 9\, Racibórz\, Śląskie\, 47-400\, Poland
ATTACH;FMTTYPE=image/jpeg:https://pcsraciborz.pl/wp-content/uploads/2026/02/Zapraszamy2.jpg
END:VEVENT
BEGIN:VEVENT
DTSTART;TZID=Europe/Warsaw:20260215T100000
DTEND;TZID=Europe/Warsaw:20260215T130000
DTSTAMP:20260425T202930
CREATED:20260218T112635Z
LAST-MODIFIED:20260218T112742Z
UID:2502-1771149600-1771160400@pcsraciborz.pl
SUMMARY:Turniej Siatkarski Rodzic–Dziecko
DESCRIPTION:Turniej Siatkarski Rodzic–Dziecko Serdecznie zapraszamy na wyjątkowy turniej siatkarski rodzica z dzieckiem!  Patronat nad turniejem objął Wójt Gminy Rudnik!Do udziału zapraszamy uczniów i uczennice klas 3\, 4 i 5 (roczniki 2014\, 2015\, 2016)\, którzy mogą wystartować w duecie z jednym z rodziców
URL:https://pcsraciborz.pl/event/turniej-siatkarski-rodzic-dziecko/
LOCATION:SP Rudnik\, Poland
ATTACH;FMTTYPE=image/jpeg:https://pcsraciborz.pl/wp-content/uploads/2026/02/rodzic-z-dziec.jpg
END:VEVENT
BEGIN:VEVENT
DTSTART;TZID=Europe/Warsaw:20260215T100000
DTEND;TZID=Europe/Warsaw:20260215T140000
DTSTAMP:20260425T202930
CREATED:20260205T133155Z
LAST-MODIFIED:20260205T133155Z
UID:2463-1771149600-1771164000@pcsraciborz.pl
SUMMARY:I Runda Powiatowej Ligi Szachowej
DESCRIPTION:
URL:https://pcsraciborz.pl/event/i-runda-powiatowej-ligi-szachowej/
LOCATION:Kuźnia Kultury w Kuźni Raciborskiej\, Kuźnia Kultury\, Poland
ATTACH;FMTTYPE=image/jpeg:https://pcsraciborz.pl/wp-content/uploads/2026/02/Kopia-–-Kopia-–-Kopia-–-Kopia-–-Ferie-w-powiecie-raciborskim1.jpg
END:VEVENT
BEGIN:VEVENT
DTSTART;TZID=Europe/Warsaw:20260217T100000
DTEND;TZID=Europe/Warsaw:20260217T113000
DTSTAMP:20260425T202930
CREATED:20260224T081941Z
LAST-MODIFIED:20260224T081941Z
UID:2522-1771322400-1771327800@pcsraciborz.pl
SUMMARY:Joga w hamakach
DESCRIPTION:Jogę podczas ferii w powiecie prowadzi instruktor Małgorzata Sudek z butikowej pracowni Bliżej Ciała
URL:https://pcsraciborz.pl/event/joga-w-hamakach-3/
LOCATION:Racibórz ul. Klasztorna 9 PCS\, Klasztarna 9\, Racibórz\, Śląskie\, 47-400\, Poland
ATTACH;FMTTYPE=image/jpeg:https://pcsraciborz.pl/wp-content/uploads/2026/02/joga-w-hamakach.jpg
END:VEVENT
BEGIN:VEVENT
DTSTART;TZID=Europe/Warsaw:20260218T100000
DTEND;TZID=Europe/Warsaw:20260218T140000
DTSTAMP:20260425T202930
CREATED:20260218T111750Z
LAST-MODIFIED:20260218T111750Z
UID:2495-1771408800-1771423200@pcsraciborz.pl
SUMMARY:
DESCRIPTION:Serdecznie zapraszamy na turniej siatkarski dziewcząt\, który odbędzie się w Szkole Podstawowej w Krzanowicach! Rywalizacja będzie prowadzona w trzech kategoriach wiekowych: klasy 3–4 (singielki) klasy 5–6 (dwójki) klasy 7–8 (dwójki)
URL:https://pcsraciborz.pl/event/2495/
LOCATION:SP Krzanowice\, Poland
ATTACH;FMTTYPE=image/jpeg:https://pcsraciborz.pl/wp-content/uploads/2026/02/siatkowka-dziewczat.jpg
END:VEVENT
BEGIN:VEVENT
DTSTART;TZID=Europe/Warsaw:20260218T100000
DTEND;TZID=Europe/Warsaw:20260218T140000
DTSTAMP:20260425T202930
CREATED:20260218T115232Z
LAST-MODIFIED:20260218T115232Z
UID:2514-1771408800-1771423200@pcsraciborz.pl
SUMMARY:Turniej Siatkarski Dziewcząt - Singielki i Dwójki
DESCRIPTION:Turniej Siatkarski Dziewcząt – Singielki i Dwójki – SP Krzanowice GS UKS Krzanowice\n\n\nSerdecznie zapraszamy na turniej siatkarski dziewcząt\, który odbędzie się w Szkole Podstawowej w Krzanowicach! \n\n\nRywalizacja będzie prowadzona w trzech kategoriach wiekowych:\n klasy 3–4 (singielki)\n klasy 5–6 (dwójki)\n klasy 7–8 (dwójki)
URL:https://pcsraciborz.pl/event/turniej-siatkarski-dziewczat-singielki-i-dwojki/
LOCATION:SP Krzanowice\, Poland
ATTACH;FMTTYPE=image/jpeg:https://pcsraciborz.pl/wp-content/uploads/2026/02/siatkowka-dziewczat.jpg
END:VEVENT
BEGIN:VEVENT
DTSTART;TZID=Europe/Warsaw:20260218T130000
DTEND;TZID=Europe/Warsaw:20260218T150000
DTSTAMP:20260425T202930
CREATED:20260224T090414Z
LAST-MODIFIED:20260224T090414Z
UID:2535-1771419600-1771426800@pcsraciborz.pl
SUMMARY:Warsztaty siatkarskie
DESCRIPTION:Warsztaty Siatkarskie \n\n\nZapraszamy wszystkich miłośników siatkówki na warsztaty siatkarskie\, podczas których będzie okazja do doskonalenia umiejętności\, aktywnego spędzenia czasu i świetnej sportowej zabawy! \n\n\n Terminy warsztatów:\n 18\, 19\, 20 lutego (śr.\, czw.\, pt.) – godz. 13:00–15:00\n 23 lutego (pn.)– godz. 10:00–12:00\n 24 i 25 lutego (wt.\, śr.)– godz. 12:00–14:00\n\n\nCzekają na Was treningi\, ćwiczenia techniczne i dużo pozytywnej energii \nNie może Was zabraknąć – serdecznie zapraszamy!
URL:https://pcsraciborz.pl/event/warsztaty-siatkarskie-5/
LOCATION:Śląskie
ATTACH;FMTTYPE=image/jpeg:https://pcsraciborz.pl/wp-content/uploads/2026/02/warsztaty-siatkarskie.jpg
END:VEVENT
BEGIN:VEVENT
DTSTART;TZID=Europe/Warsaw:20260219T100000
DTEND;TZID=Europe/Warsaw:20260219T113000
DTSTAMP:20260425T202930
CREATED:20260224T083425Z
LAST-MODIFIED:20260224T083444Z
UID:2524-1771495200-1771500600@pcsraciborz.pl
SUMMARY:Joga w hamakach
DESCRIPTION:Jogę podczas ferii w powiecie prowadzi instruktor Małgorzata Sudek z butikowej pracowni Bliżej Ciała
URL:https://pcsraciborz.pl/event/joga-w-hamakach-4/
LOCATION:Racibórz ul. Klasztorna 9 PCS\, Klasztarna 9\, Racibórz\, Śląskie\, 47-400\, Poland
ATTACH;FMTTYPE=image/jpeg:https://pcsraciborz.pl/wp-content/uploads/2026/02/joga-w-hamakach.jpg
END:VEVENT
BEGIN:VEVENT
DTSTART;TZID=Europe/Warsaw:20260219T170000
DTEND;TZID=Europe/Warsaw:20260219T190000
DTSTAMP:20260425T202930
CREATED:20260218T114951Z
LAST-MODIFIED:20260218T114951Z
UID:2509-1771520400-1771527600@pcsraciborz.pl
SUMMARY:Zawody strzeleckie na strzelnicy wirtualnej – Ferie w Powiat Raciborski
DESCRIPTION:Zawody strzeleckie na strzelnicy wirtualnej – Ferie w Powiat Raciborski \n\n\nPCS Racibórz oraz Stacja Kultura w Pietrowicach Wielkich zapraszają do udziału w zawodach strzeleckich na strzelnicy wirtualnej organizowanych w ramach akcji „Ferie w Powiecie”.\nSprawdź swoją celność\, refleks i koncentrację w sportowej rywalizacji
URL:https://pcsraciborz.pl/event/zawody-strzeleckie-na-strzelnicy-wirtualnej-ferie-w-powiat-raciborski/
LOCATION:Stacja Kultury Pietrowice Wielkie\, Poland
ATTACH;FMTTYPE=image/jpeg:https://pcsraciborz.pl/wp-content/uploads/2026/02/strzelanie.jpg
END:VEVENT
BEGIN:VEVENT
DTSTART;TZID=Europe/Warsaw:20260223T100000
DTEND;TZID=Europe/Warsaw:20260223T120000
DTSTAMP:20260425T202930
CREATED:20260224T083935Z
LAST-MODIFIED:20260224T083935Z
UID:2533-1771840800-1771848000@pcsraciborz.pl
SUMMARY:Warsztaty siatkarskie
DESCRIPTION:
URL:https://pcsraciborz.pl/event/warsztaty-siatkarskie-4/
LOCATION:Racibórz ul. Klasztorna 9 PCS\, Klasztarna 9\, Racibórz\, Śląskie\, 47-400\, Poland
ATTACH;FMTTYPE=image/jpeg:https://pcsraciborz.pl/wp-content/uploads/2026/02/warsztaty-siatkarskie.jpg
END:VEVENT
BEGIN:VEVENT
DTSTART;TZID=Europe/Warsaw:20260223T200000
DTEND;TZID=Europe/Warsaw:20260223T220000
DTSTAMP:20260425T202930
CREATED:20260218T110803Z
LAST-MODIFIED:20260218T110853Z
UID:2484-1771876800-1771884000@pcsraciborz.pl
SUMMARY:V Runda - Amatorski turniej tenisa stołowego OPEN
DESCRIPTION:Zapraszamy na turniej amatorski tenisa stołowego OPEN
URL:https://pcsraciborz.pl/event/turniej-amatorski-tenisa-stolowego-open/
LOCATION:Racibórz ul. Klasztorna 9 PCS\, Klasztarna 9\, Racibórz\, Śląskie\, 47-400\, Poland
ATTACH;FMTTYPE=image/jpeg:https://pcsraciborz.pl/wp-content/uploads/2026/02/Zapraszamy1.jpg
END:VEVENT
BEGIN:VEVENT
DTSTART;TZID=Europe/Warsaw:20260224T100000
DTEND;TZID=Europe/Warsaw:20260224T113000
DTSTAMP:20260425T202930
CREATED:20260224T081657Z
LAST-MODIFIED:20260224T081657Z
UID:2517-1771927200-1771932600@pcsraciborz.pl
SUMMARY:Joga w hamakach
DESCRIPTION:Jogę prowadzi instruktor Małgorzata Sudek z butikowej pracowni Bliżej Ciała w Raciborzu. Serdecznie zapraszamy do spędzenia ferii zimowych z Powiatem Raciborskim!
URL:https://pcsraciborz.pl/event/joga-w-hamakach/
LOCATION:Racibórz ul. Klasztorna 9 PCS\, Klasztarna 9\, Racibórz\, Śląskie\, 47-400\, Poland
ATTACH;FMTTYPE=image/jpeg:https://pcsraciborz.pl/wp-content/uploads/2026/02/joga-w-hamakach.jpg
END:VEVENT
BEGIN:VEVENT
DTSTART;TZID=Europe/Warsaw:20260224T120000
DTEND;TZID=Europe/Warsaw:20260224T140000
DTSTAMP:20260425T202930
CREATED:20260224T083625Z
LAST-MODIFIED:20260224T083625Z
UID:2526-1771934400-1771941600@pcsraciborz.pl
SUMMARY:Warsztaty siatkarskie
DESCRIPTION:
URL:https://pcsraciborz.pl/event/warsztaty-siatkarskie/
LOCATION:Racibórz ul. Klasztorna 9 PCS\, Klasztarna 9\, Racibórz\, Śląskie\, 47-400\, Poland
ATTACH;FMTTYPE=image/jpeg:https://pcsraciborz.pl/wp-content/uploads/2026/02/warsztaty-siatkarskie.jpg
END:VEVENT
BEGIN:VEVENT
DTSTART;TZID=Europe/Warsaw:20260225T120000
DTEND;TZID=Europe/Warsaw:20260225T140000
DTSTAMP:20260425T202930
CREATED:20260224T083735Z
LAST-MODIFIED:20260224T083735Z
UID:2529-1772020800-1772028000@pcsraciborz.pl
SUMMARY:Warsztaty siatkarskie
DESCRIPTION:
URL:https://pcsraciborz.pl/event/warsztaty-siatkarskie-2/
LOCATION:Śląskie
ATTACH;FMTTYPE=image/jpeg:https://pcsraciborz.pl/wp-content/uploads/2026/02/warsztaty-siatkarskie.jpg
END:VEVENT
BEGIN:VEVENT
DTSTART;TZID=Europe/Warsaw:20260226T100000
DTEND;TZID=Europe/Warsaw:20260226T113000
DTSTAMP:20260425T202930
CREATED:20260224T081816Z
LAST-MODIFIED:20260224T081816Z
UID:2520-1772100000-1772105400@pcsraciborz.pl
SUMMARY:Joga w hamakach
DESCRIPTION:
URL:https://pcsraciborz.pl/event/joga-w-hamakach-2/
LOCATION:Racibórz ul. Klasztorna 9 PCS\, Klasztarna 9\, Racibórz\, Śląskie\, 47-400\, Poland
ATTACH;FMTTYPE=image/jpeg:https://pcsraciborz.pl/wp-content/uploads/2026/02/joga-w-hamakach.jpg
END:VEVENT
BEGIN:VEVENT
DTSTART;TZID=Europe/Warsaw:20260226T100000
DTEND;TZID=Europe/Warsaw:20260226T140000
DTSTAMP:20260425T202930
CREATED:20260218T100853Z
LAST-MODIFIED:20260218T100943Z
UID:2474-1772100000-1772114400@pcsraciborz.pl
SUMMARY:Turniej tenisa stołowego dla dzieci i młodzieży
DESCRIPTION:Startujemy o godz. 10:00. Zapisy w dniu turnieju. Przyjdź i spróbuj swoich sił! \nZapraszamy!
URL:https://pcsraciborz.pl/event/turniej-tenisa-stolowego-dla-dzieci-i-mlodziezy/
LOCATION:Racibórz ul. Klasztorna 9 PCS\, Klasztarna 9\, Racibórz\, Śląskie\, 47-400\, Poland
ATTACH;FMTTYPE=image/jpeg:https://pcsraciborz.pl/wp-content/uploads/2026/02/Zapraszamy.jpg
END:VEVENT
BEGIN:VEVENT
DTSTART;TZID=Europe/Warsaw:20260227T160000
DTEND;TZID=Europe/Warsaw:20260227T230000
DTSTAMP:20260425T202930
CREATED:20260304T120335Z
LAST-MODIFIED:20260304T120335Z
UID:2562-1772208000-1772233200@pcsraciborz.pl
SUMMARY:Wyjazd do Aqua Parku w Tychach w ramach Ferii w Powiecie
DESCRIPTION:Jedź z nami do aquaparku podczas ferii w Powiat Raciborski! \n\n\nW najbliższy piątek (27.02.26 r.) wybieramy się do Wodnego Parku w Tychach i mamy jeszcze wolne miejsca!\n\n\n Wyjazd: godz. 16:00\n Miejsce zbiórki: PCS\, ul. Klasztorna 9\n\n\n Wejście do aquaparku: ok. 18:00\, powrót 21:00 wyjazd spod aquaparku\n\n\n Każda zapisana osoba kupuje bilet trzygodzinny we własnym zakresie\n Bilety online: www.wodnypark.tychy.pl/kup-bilet\n\n\nNiepełnoletnie osoby muszą mieć opiekuna!\n\n\n Transport w obie strony GRATIS – z nami dojedziesz na miejsce i bezpiecznie wrócisz!\n\n\nNie zwlekaj\, zabierz znajomych i wpadaj z nami na wodne szaleństwo!
URL:https://pcsraciborz.pl/event/wyjazd-do-aqua-parku-w-tychach-w-ramach-ferii-w-powiecie/
LOCATION:Racibórz ul. Klasztorna 9 PCS\, Klasztarna 9\, Racibórz\, Śląskie\, 47-400\, Poland
ATTACH;FMTTYPE=image/jpeg:https://pcsraciborz.pl/wp-content/uploads/2026/03/aqua.jpg
END:VEVENT
BEGIN:VEVENT
DTSTART;TZID=Europe/Warsaw:20260227T180000
DTEND;TZID=Europe/Warsaw:20260227T200000
DTSTAMP:20260425T202931
CREATED:20260304T115636Z
LAST-MODIFIED:20260304T115636Z
UID:2556-1772215200-1772222400@pcsraciborz.pl
SUMMARY:Feryjny Turniej Gry w Tysiąca
DESCRIPTION:Feryjny Turniej Gry w Tysiąca \n\n\nPCS w Raciborzu oraz LKS Górki Śląskie zapraszają wszystkich miłośników kart na feryjną rywalizację przy stole!\n\n\n 27 lutego\n Godz. 18:00\n Górki Śląskie\, ul. Ofiar Oświęcimskich 2A\n\n\n Zapisy: 605 314 991\n Udział w turnieju: bezpłatny\n\n\nWydarzenie organizowane w ramach akcji „Ferie w Powiat Raciborski” – dobra zabawa gwarantowana!\nZapraszamy do wspólnej gry \nLKS Górki Śląskie
URL:https://pcsraciborz.pl/event/feryjny-turniej-gry-w-tysiaca/
LOCATION:Górki Śląskie\, ul. Ofiar Oświęcimskich 2A
ATTACH;FMTTYPE=image/jpeg:https://pcsraciborz.pl/wp-content/uploads/2026/03/tysiac.jpg
END:VEVENT
END:VCALENDAR